BEGIN:VCALENDAR
VERSION:2.0
PRODID:-//The People Speak - ECPv4.6.11//NONSGML v1.0//EN
CALSCALE:GREGORIAN
METHOD:PUBLISH
X-WR-CALNAME:The People Speak
X-ORIGINAL-URL:https://thepeoplespeak.org.uk
X-WR-CALDESC:Events for The People Speak
BEGIN:VEVENT
DTSTART;TZID=UTC+0:20170526T180000
DTEND;TZID=UTC+0:20170526T220000
DTSTAMP:20260424T192430
CREATED:20170525T161114Z
LAST-MODIFIED:20170525T161114Z
UID:4228-1495821600-1495836000@thepeoplespeak.org.uk
SUMMARY:Talkaoke: Make the Future Live
DESCRIPTION:Talkaoke will be at Shell’s Make the Future Live Lates event in Queen Elizabeth Olympic Park. \nWhat would it take to make London carbon neutral? \nFor more details and to get your free ticket visit the event website \nOver 18s only \n
URL:https://thepeoplespeak.org.uk/event/talkaoke-make-the-future-live/
CATEGORIES:Talkaoke
ATTACH;FMTTYPE=image/jpeg:https://thepeoplespeak.org.uk/wp-content/uploads/2017/05/make-the-future-london-lates-banner-revised.jpeg
END:VEVENT
END:VCALENDAR