BEGIN:VCALENDAR
VERSION:2.0
PRODID:-//The People Speak - ECPv4.6.11//NONSGML v1.0//EN
CALSCALE:GREGORIAN
METHOD:PUBLISH
X-WR-CALNAME:The People Speak
X-ORIGINAL-URL:https://thepeoplespeak.org.uk
X-WR-CALDESC:Events for The People Speak
BEGIN:VEVENT
DTSTART;TZID=UTC+0:20191012T140000
DTEND;TZID=UTC+0:20191012T183000
DTSTAMP:20260419T155635
CREATED:20191004T121642Z
LAST-MODIFIED:20191021T124514Z
UID:4680-1570888800-1570905000@thepeoplespeak.org.uk
SUMMARY:Talkaoke: Lutopia festival
DESCRIPTION:Talkaoke was at ‘Lutopia’\, outside Luton Town Hall. \nClick here to view Rick’s visuals created live during the Talkaoke \n \n
URL:https://thepeoplespeak.org.uk/event/talkaoke-lutopia-festival/
CATEGORIES:Past Events,Talkaoke
ATTACH;FMTTYPE=image/png:https://thepeoplespeak.org.uk/wp-content/uploads/2019/10/Lutopia.png
END:VEVENT
END:VCALENDAR