BEGIN:VCALENDAR
VERSION:2.0
PRODID:-//The People Speak - ECPv4.6.11//NONSGML v1.0//EN
CALSCALE:GREGORIAN
METHOD:PUBLISH
X-WR-CALNAME:The People Speak
X-ORIGINAL-URL:https://thepeoplespeak.org.uk
X-WR-CALDESC:Events for The People Speak
BEGIN:VEVENT
DTSTART;TZID=UTC+0:20160224T193000
DTEND;TZID=UTC+0:20160224T223000
DTSTAMP:20260425T102306
CREATED:20160209T134021Z
LAST-MODIFIED:20160301T202635Z
UID:3938-1456342200-1456353000@thepeoplespeak.org.uk
SUMMARY:Talkaoke: Last ever Studio Session at Cremer Street
DESCRIPTION:The day has finally come when we have to leave our beautiful Cremer Street Studios in Hoxton\, but we couldn’t do so without one last Talkaoke studio session. \nSo we made sure the 64th Studio session was a blast. \nClick here to watch the videos \nClick here to see the photos \n
URL:https://thepeoplespeak.org.uk/event/talkaoke-last-ever-studio-session-at-cremer-street/
CATEGORIES:Past Events,Talkaoke
ATTACH;FMTTYPE=image/jpeg:https://thepeoplespeak.org.uk/wp-content/uploads/2012/03/INDSUT_TalkaokeLR_2915.jpg
END:VEVENT
END:VCALENDAR