BEGIN:VCALENDAR
VERSION:2.0
PRODID:-//The People Speak - ECPv4.6.11//NONSGML v1.0//EN
CALSCALE:GREGORIAN
METHOD:PUBLISH
X-WR-CALNAME:The People Speak
X-ORIGINAL-URL:https://thepeoplespeak.org.uk
X-WR-CALDESC:Events for The People Speak
BEGIN:VEVENT
DTSTART;TZID=Europe/London:20180428T120000
DTEND;TZID=Europe/London:20180429T170000
DTSTAMP:20260419T210045
CREATED:20180403T121325Z
LAST-MODIFIED:20180508T124951Z
UID:4364-1524916800-1525021200@thepeoplespeak.org.uk
SUMMARY:Talkaoke: Imperial Festival 2018
DESCRIPTION:Talkaoke returned to Imperial College for another fun weekend of chat about since and technology at Imperial Festival 2018. \nView the photos from event here \nVideo Playlist below: \n \n  \n
URL:https://thepeoplespeak.org.uk/event/talkaoke-imperial-festival-2018/
LOCATION:London\, United Kingdom
CATEGORIES:Past Events,Talkaoke
ATTACH;FMTTYPE=image/jpeg:https://thepeoplespeak.org.uk/wp-content/uploads/2018/04/41148656744_0662a2f8f6_z.jpg
END:VEVENT
END:VCALENDAR