BEGIN:VCALENDAR
VERSION:2.0
PRODID:-//The People Speak - ECPv4.6.11//NONSGML v1.0//EN
CALSCALE:GREGORIAN
METHOD:PUBLISH
X-WR-CALNAME:The People Speak
X-ORIGINAL-URL:https://thepeoplespeak.org.uk
X-WR-CALDESC:Events for The People Speak
BEGIN:VEVENT
DTSTART;TZID=UTC+0:20170507T110000
DTEND;TZID=UTC+0:20170507T170000
DTSTAMP:20260424T195027
CREATED:20170502T114326Z
LAST-MODIFIED:20170515T113034Z
UID:4222-1494154800-1494176400@thepeoplespeak.org.uk
SUMMARY:Talkaoke: Imperial Festival 2017
DESCRIPTION:For the fourth year in a row Talkaoke was at Imperial Festival\, at Imperial College for a Sunday afternoon discussion on Science. \nWill robots take over the world\, should we breed pigs to fly\, why or how does the wind blow and do we need more research into the chemistry\, physics and psychology of love? Find out on Talkaoke. \nClick here to view photos from the day \n \n  \n
URL:https://thepeoplespeak.org.uk/event/talkaoke-imperial-festival-2017/
LOCATION:London\, United Kingdom
CATEGORIES:Past Events,Talkaoke
ATTACH;FMTTYPE=image/jpeg:https://thepeoplespeak.org.uk/wp-content/uploads/2017/05/34556681505_2f3109e7d9_z.jpeg
END:VEVENT
END:VCALENDAR