BEGIN:VCALENDAR
VERSION:2.0
PRODID:-//The People Speak - ECPv4.6.11//NONSGML v1.0//EN
CALSCALE:GREGORIAN
METHOD:PUBLISH
X-WR-CALNAME:The People Speak
X-ORIGINAL-URL:https://thepeoplespeak.org.uk
X-WR-CALDESC:Events for The People Speak
BEGIN:VEVENT
DTSTART;TZID=UTC+0:20150324T150000
DTEND;TZID=UTC+0:20150324T173000
DTSTAMP:20260425T025648
CREATED:20150313T193051Z
LAST-MODIFIED:20150326T172134Z
UID:3801-1427209200-1427218200@thepeoplespeak.org.uk
SUMMARY:Talkaoke: #If We Ran Things\, Channel 4
DESCRIPTION:Talkaoke returned to the Channel 4 headquarters for #IfWeRanThings. \nAn event focusing on 18-25 year olds and what they would change or focus on if they were in charge of politics. \nFor more info please visit: www.ifweranthings.co.uk/ \n  \nClick here to watch the Video \nClick here to view Pictures of the event \nClick here to view hi res version of Heckle Cloud \n  \n  \n  \n
URL:https://thepeoplespeak.org.uk/event/talkaoke-if-we-ran-things-channel-4/
LOCATION:124 Horseferry Road\, London\, SW1P 2TX\, United Kingdom
ATTACH;FMTTYPE=image/jpeg:https://thepeoplespeak.org.uk/wp-content/uploads/2015/03/talkaoke-ifweranthings.jpg
END:VEVENT
END:VCALENDAR