BEGIN:VCALENDAR
VERSION:2.0
PRODID:-//The People Speak - ECPv4.6.11//NONSGML v1.0//EN
CALSCALE:GREGORIAN
METHOD:PUBLISH
X-WR-CALNAME:The People Speak
X-ORIGINAL-URL:https://thepeoplespeak.org.uk
X-WR-CALDESC:Events for The People Speak
BEGIN:VEVENT
DTSTART;VALUE=DATE:20171006
DTEND;VALUE=DATE:20171007
DTSTAMP:20260424T081612
CREATED:20171011T131631Z
LAST-MODIFIED:20171011T131839Z
UID:4266-1507248000-1507334399@thepeoplespeak.org.uk
SUMMARY:Talkaoke: Happening\, De Koffie Pot
DESCRIPTION:Talkaoke was at Happening – 1960’s Psychedelia meets the latest in virtual reality\, 360 cinema and digital art. Taking place at De Koffie Pot in Hereford. \nRick was creating visuals during the event which you can view on our Flickr page. \nPlaylist below: \n \n
URL:https://thepeoplespeak.org.uk/event/talkaoke-happening/
LOCATION:Hereford\, United Kingdom
CATEGORIES:Past Events,Talkaoke
ATTACH;FMTTYPE=image/jpeg:https://thepeoplespeak.org.uk/wp-content/uploads/2017/10/logo.jpg
END:VEVENT
END:VCALENDAR