BEGIN:VCALENDAR
VERSION:2.0
PRODID:-//The People Speak - ECPv4.6.11//NONSGML v1.0//EN
CALSCALE:GREGORIAN
METHOD:PUBLISH
X-WR-CALNAME:The People Speak
X-ORIGINAL-URL:https://thepeoplespeak.org.uk
X-WR-CALDESC:Events for The People Speak
BEGIN:VEVENT
DTSTART;TZID=UTC+0:20180504T140000
DTEND;TZID=UTC+0:20180504T190000
DTSTAMP:20260419T190915
CREATED:20180501T133022Z
LAST-MODIFIED:20180511T160631Z
UID:4395-1525442400-1525460400@thepeoplespeak.org.uk
SUMMARY:Talkaoke: #HACKSTOCK: May the Fourth
DESCRIPTION: Talkaoke was at Ravensbourne College for #Hackstock 2018.\nPart of Sci-Fi London\nYou can view more info on the event here: https://sci-fi-london.com/festival/2018/programme/event/hackstock-may-fourth \nPhotos from the event are here \nVideo playlist below: \n \n
URL:https://thepeoplespeak.org.uk/event/talkaoke-hackstock-2018/
LOCATION:6 Penrose Way\, Greenwich Peninsula\,\, London\, SE10 0EW\, United Kingdom
CATEGORIES:Past Events,Talkaoke
ATTACH;FMTTYPE=image/jpeg:https://thepeoplespeak.org.uk/wp-content/uploads/2018/05/hackstock_00_warmup_0.jpg
END:VEVENT
END:VCALENDAR