BEGIN:VCALENDAR
VERSION:2.0
PRODID:-//The People Speak - ECPv4.6.11//NONSGML v1.0//EN
CALSCALE:GREGORIAN
METHOD:PUBLISH
X-WR-CALNAME:The People Speak
X-ORIGINAL-URL:https://thepeoplespeak.org.uk
X-WR-CALDESC:Events for The People Speak
BEGIN:VEVENT
DTSTART;VALUE=DATE:20151031
DTEND;VALUE=DATE:20151102
DTSTAMP:20260425T154424
CREATED:20151105T134110Z
LAST-MODIFIED:20151109T114117Z
UID:3907-1446249600-1446422399@thepeoplespeak.org.uk
SUMMARY:Talkaoke: Frequency Festival 2015\, Lincoln
DESCRIPTION:As part of Frequency Festival 2015 and to celebrate 800 years since the signing of Magna Carta\, Talkaoke spent a weekend in Lincoln Town Centre (on speakers corner no less) chatting with people regarding a variety of topics. \nWe were visualising on the day some of the topics and these along with the photos can be viewed on our Flickr page \nWatch the videos here \n
URL:https://thepeoplespeak.org.uk/event/talkaoke-frequency-festival-2015-lincoln/
LOCATION:United Kingdom
ATTACH;FMTTYPE=image/jpeg:https://thepeoplespeak.org.uk/wp-content/uploads/2015/11/magna-carta-no-women.jpg
END:VEVENT
END:VCALENDAR