BEGIN:VCALENDAR
VERSION:2.0
PRODID:-//The People Speak - ECPv4.6.11//NONSGML v1.0//EN
CALSCALE:GREGORIAN
METHOD:PUBLISH
X-WR-CALNAME:The People Speak
X-ORIGINAL-URL:https://thepeoplespeak.org.uk
X-WR-CALDESC:Events for The People Speak
BEGIN:VEVENT
DTSTART;TZID=UTC+0:20180513T110000
DTEND;TZID=UTC+0:20180513T170000
DTSTAMP:20260419T184506
CREATED:20180409T175135Z
LAST-MODIFIED:20180517T104945Z
UID:4373-1526209200-1526230800@thepeoplespeak.org.uk
SUMMARY:Talkaoke: Forty Hall Estate - Hinterlands
DESCRIPTION:\nTalkaoke was in the wonderful setting of Forty Hall Estate\, in Enfield\, for their Village Fate.Rick was also on hand to creating visuals live of the conversation.\n\n\n\nClick here to view visuals and photos\n\n\n\nThis event was in partnership with Hinterlands and Canal & River Trust.\n\n \n
URL:https://thepeoplespeak.org.uk/event/talkaoke-forty-hall-estate-hinterlands/
LOCATION:Forty Hill\, Enfield\, London\, EN2 9HA\, United Kingdom
CATEGORIES:Past Events,Talkaoke
ATTACH;FMTTYPE=image/jpeg:https://thepeoplespeak.org.uk/wp-content/uploads/2018/04/IMG-20180513-WA0001-e1526554018137.jpeg
END:VEVENT
END:VCALENDAR