BEGIN:VCALENDAR
VERSION:2.0
PRODID:-//The People Speak - ECPv4.6.11//NONSGML v1.0//EN
CALSCALE:GREGORIAN
METHOD:PUBLISH
X-WR-CALNAME:The People Speak
X-ORIGINAL-URL:https://thepeoplespeak.org.uk
X-WR-CALDESC:Events for The People Speak
BEGIN:VEVENT
DTSTART;TZID=UTC+0:20140713T120000
DTEND;TZID=UTC+0:20140713T170000
DTSTAMP:20260424T191057
CREATED:20140711T125800Z
LAST-MODIFIED:20140718T141523Z
UID:3695-1405252800-1405270800@thepeoplespeak.org.uk
SUMMARY:Talkaoke: Flyover Fest
DESCRIPTION:The Friends of the Flyover are helping turn an elevated highway & walkways into a new urban space for Liverpool. Flyover Fest was a chance for people to not only see and discuss the plans & vision but also have some fun with  music\, food\, art\, theatre and workshops. \nTalkaoke was part of the activities helping generate ideas and thoughts about the flyover\, some of which you can see visualised on our Flickr Page. \nClick here to watch the videos \nVisit Friends of the Flyers for more information on the project. \n
URL:https://thepeoplespeak.org.uk/event/talkaoke-flyover-fest/
LOCATION:Churchill Way\, Liverpool\, United Kingdom
CATEGORIES:Past Events,Talkaoke
ATTACH;FMTTYPE=image/jpeg:https://thepeoplespeak.org.uk/wp-content/uploads/2014/07/history_tour.jpg
END:VEVENT
END:VCALENDAR