BEGIN:VCALENDAR
VERSION:2.0
PRODID:-//The People Speak - ECPv4.6.11//NONSGML v1.0//EN
CALSCALE:GREGORIAN
METHOD:PUBLISH
X-WR-CALNAME:The People Speak
X-ORIGINAL-URL:https://thepeoplespeak.org.uk
X-WR-CALDESC:Events for The People Speak
BEGIN:VEVENT
DTSTART;VALUE=DATE:20180325
DTEND;VALUE=DATE:20180326
DTSTAMP:20260419T222833
CREATED:20180328T112122Z
LAST-MODIFIED:20180328T112122Z
UID:4359-1521936000-1522022399@thepeoplespeak.org.uk
SUMMARY:Talkaoke: ‘Estate’ Film Screening & Discussion
DESCRIPTION:Talkaoke was at Andrea Zimmerman’s film screening of ‘Estate’ at Haggerston Community Centre\, in Hackney\, to have a discussion about the film\, the estate and the changes happening in the area. \nView the photos here \nVideo Below: \n \n
URL:https://thepeoplespeak.org.uk/event/talkaoke-estate-film-screening-discussion/
CATEGORIES:Talkaoke
ATTACH;FMTTYPE=image/jpeg:https://thepeoplespeak.org.uk/wp-content/uploads/2018/03/haggerston-film-screening-flyer-small.jpg
END:VEVENT
END:VCALENDAR