BEGIN:VCALENDAR
VERSION:2.0
PRODID:-//The People Speak - ECPv4.6.11//NONSGML v1.0//EN
CALSCALE:GREGORIAN
METHOD:PUBLISH
X-WR-CALNAME:The People Speak
X-ORIGINAL-URL:https://thepeoplespeak.org.uk
X-WR-CALDESC:Events for The People Speak
BEGIN:VEVENT
DTSTART;TZID=UTC+0:20191212T210000
DTEND;TZID=UTC+0:20191213T000000
DTSTAMP:20260419T140808
CREATED:20191218T114345Z
LAST-MODIFIED:20191218T114345Z
UID:4719-1576184400-1576195200@thepeoplespeak.org.uk
SUMMARY:Talkaoke: Election Special 2019
DESCRIPTION:We ran an ‘Election Special’ Talkaoke the evening of  the 2019 election at The Tommy Flowers community pub in Poplar\, where we also live streamed the exit polls and gauged peoples reactions. \n \n
URL:https://thepeoplespeak.org.uk/event/talkaoke-election-special-2019/
LOCATION:50 Aberfeldy Street\, London\, E14 0NU\, United Kingdom
CATEGORIES:Past Events,Talkaoke
ATTACH;FMTTYPE=image/jpeg:https://thepeoplespeak.org.uk/wp-content/uploads/2019/12/talkaoke-election_special.jpg
END:VEVENT
END:VCALENDAR