BEGIN:VCALENDAR
VERSION:2.0
PRODID:-//The People Speak - ECPv4.6.11//NONSGML v1.0//EN
CALSCALE:GREGORIAN
METHOD:PUBLISH
X-WR-CALNAME:The People Speak
X-ORIGINAL-URL:https://thepeoplespeak.org.uk
X-WR-CALDESC:Events for The People Speak
BEGIN:VEVENT
DTSTART;TZID=UTC+0:20121219T193000
DTEND;TZID=UTC+0:20121219T230059
DTSTAMP:20260424T144240
CREATED:20121116T191922Z
LAST-MODIFIED:20121116T191922Z
UID:3016-1355945400-1355958059@thepeoplespeak.org.uk
SUMMARY:Talkaoke Christmas Special
DESCRIPTION:Join us at The People Speak nerve centre for an evening of discussion and debate around the warm glowing table of chat with a Christmas Special Talkaoke studio session. This event is free. \n
URL:https://thepeoplespeak.org.uk/event/talkaoke-christmas-special/
CATEGORIES:Talkaoke
END:VEVENT
END:VCALENDAR