BEGIN:VCALENDAR
VERSION:2.0
PRODID:-//The People Speak - ECPv4.6.11//NONSGML v1.0//EN
CALSCALE:GREGORIAN
METHOD:PUBLISH
X-WR-CALNAME:The People Speak
X-ORIGINAL-URL:https://thepeoplespeak.org.uk
X-WR-CALDESC:Events for The People Speak
BEGIN:VEVENT
DTSTART;VALUE=DATE:20180527
DTEND;VALUE=DATE:20180528
DTSTAMP:20260419T191147
CREATED:20180601T112040Z
LAST-MODIFIED:20180601T112040Z
UID:4437-1527379200-1527465599@thepeoplespeak.org.uk
SUMMARY:Talkaoke: Brighton Festival - Brighton Seafront
DESCRIPTION:In partnership with Southern Water\, Talkaoke was on Brighton Seafront for the Brighton Festival. \nClick here to view the visuals made live on the day and the photos on our Flickr page. \n  \n \n
URL:https://thepeoplespeak.org.uk/event/talkaoke-brighton-festival-brighton-seafront/
LOCATION:United Kingdom
CATEGORIES:Past Events,Talkaoke
ATTACH;FMTTYPE=image/jpeg:https://thepeoplespeak.org.uk/wp-content/uploads/2018/06/8-islands-of-plastic-ice-caps-melted.jpg
END:VEVENT
END:VCALENDAR