BEGIN:VCALENDAR
VERSION:2.0
PRODID:-//The People Speak - ECPv4.6.11//NONSGML v1.0//EN
CALSCALE:GREGORIAN
METHOD:PUBLISH
X-WR-CALNAME:The People Speak
X-ORIGINAL-URL:https://thepeoplespeak.org.uk
X-WR-CALDESC:Events for The People Speak
BEGIN:VEVENT
DTSTART;TZID=UTC+0:20181006T110000
DTEND;TZID=UTC+0:20181007T180000
DTSTAMP:20260419T202159
CREATED:20181004T145215Z
LAST-MODIFIED:20181015T113029Z
UID:4499-1538823600-1538935200@thepeoplespeak.org.uk
SUMMARY:Talkaoke: Black History Month
DESCRIPTION:Talkaoke was in the old Stratford Shopping Centre getting people talking for a Black History Month special. Reimagine Black History for a new generation and a new era. \nWe were also visualising the conversation during the 2 days Click here to view photos and the visuals from the event \n \n
URL:https://thepeoplespeak.org.uk/event/talkaoke-blackhistorymonth/
LOCATION:54A Broadway\, London\, E15 1NG\, United Kingdom
CATEGORIES:Past Events,Talkaoke
ATTACH;FMTTYPE=image/jpeg:https://thepeoplespeak.org.uk/wp-content/uploads/2018/10/44334323845_502ab3dc3e_z.jpg
END:VEVENT
END:VCALENDAR