BEGIN:VCALENDAR
VERSION:2.0
PRODID:-//The People Speak - ECPv4.6.11//NONSGML v1.0//EN
CALSCALE:GREGORIAN
METHOD:PUBLISH
X-WR-CALNAME:The People Speak
X-ORIGINAL-URL:https://thepeoplespeak.org.uk
X-WR-CALDESC:Events for The People Speak
BEGIN:VEVENT
DTSTART;TZID=UTC+0:20150704T120000
DTEND;TZID=UTC+0:20150704T170000
DTSTAMP:20260425T110906
CREATED:20150702T142111Z
LAST-MODIFIED:20150709T135400Z
UID:3852-1436011200-1436029200@thepeoplespeak.org.uk
SUMMARY:Talkaoke: Bermondsey Carnival 2015
DESCRIPTION:Summer is here and Talkaoke was at its first festival of the year in Southwark Park for Bermondsey Carnival 2015. \nWe covered a lot of subjects throughout the day but the some of the main topics were around the importance for  communities and good neighbourhood\, particularly in Southwark \nWatch the videos here \nCheck out the Heckle cloud \nCheck out Photos from the day \n
URL:https://thepeoplespeak.org.uk/event/talkaoke-bermondsey-carnival-2015/
ATTACH;FMTTYPE=image/jpeg:https://thepeoplespeak.org.uk/wp-content/uploads/2015/07/photo_cover.jpg
END:VEVENT
END:VCALENDAR