BEGIN:VCALENDAR
VERSION:2.0
PRODID:-//The People Speak - ECPv4.6.11//NONSGML v1.0//EN
CALSCALE:GREGORIAN
METHOD:PUBLISH
X-WR-CALNAME:The People Speak
X-ORIGINAL-URL:https://thepeoplespeak.org.uk
X-WR-CALDESC:Events for The People Speak
BEGIN:VEVENT
DTSTART;TZID=UTC+0:20130616T120000
DTEND;TZID=UTC+0:20130616T170059
DTSTAMP:20260422T085223
CREATED:20130529T151722Z
LAST-MODIFIED:20130529T151722Z
UID:3251-1371384000-1371402059@thepeoplespeak.org.uk
SUMMARY:Talkaoke at Secret City Garden
DESCRIPTION:Fairchild’s Garden is one of Hackney’s hidden gems\, tucked away next to Ye Old Ax pub. The garden is named after Thomas Fairchild\, a Hoxton-based 18th century gardener\, who had a passion for creating plants that would thrive in London. Secret City Garden invites local residents\, communities and creatives to participate in Fairchild’s vision for creating beautiful engaging habitats in urban spaces. \nTalkaoke will be one of the many activities and events taking part throughout the day which includes: CABINet\, Gardening and Planting Workshops\, Adopt Your Own Planter for Free\, Alive in the City\, Boules and table tennis. \nEntry to this event is absolutely free.\nFor a map of location\, go to: http://goo.gl/maps/VQtJk \n
URL:https://thepeoplespeak.org.uk/event/talkaoke-at-secret-city-garden/
LOCATION:Hackney Road Recreational Ground\, London\, E2 8ET\, United Kingdom
CATEGORIES:Talkaoke
ATTACH;FMTTYPE=image/jpeg:https://thepeoplespeak.org.uk/wp-content/uploads/2013/05/Secret-City-Garden.jpg
END:VEVENT
END:VCALENDAR