BEGIN:VCALENDAR
VERSION:2.0
PRODID:-//The People Speak - ECPv4.6.11//NONSGML v1.0//EN
CALSCALE:GREGORIAN
METHOD:PUBLISH
X-WR-CALNAME:The People Speak
X-ORIGINAL-URL:https://thepeoplespeak.org.uk
X-WR-CALDESC:Events for The People Speak
BEGIN:VEVENT
DTSTART;TZID=UTC+0:20170225T130000
DTEND;TZID=UTC+0:20170225T170000
DTSTAMP:20260424T232634
CREATED:20170131T152809Z
LAST-MODIFIED:20170208T133721Z
UID:4170-1488027600-1488042000@thepeoplespeak.org.uk
SUMMARY:Talkaoke: The Future of Peckham
DESCRIPTION:Peckham Platform Retrospective\n \nFor Peckham Platform’s final weekend\, join Talkaoke to explore the ways in which Peckham is changing and the role that cultural organisations like Peckham Platform can play. A rapidly changing panel of invited speakers will take their place at the Talkaoke table to put forward their views\, with public invited to share theirs. \n\nConfirmed speakers include: artists Barby Asante\, Sarah Cole and Janette Parris; local groups Theatre Peckham\, Leaders of Tomorrow and Peckham Vision; The Worshipful The Mayor of Southwark Councillor Kath Whittam\, Councillor Johnson Situ; and Peckham Platform’s board members\, staff\, volunteers and Youth Platform. \n\nPeckham Platform will be moving to a new home next spring. \n
URL:https://thepeoplespeak.org.uk/event/talkaoke-at-peckham-platform/
LOCATION:89 Peckham High Street\, London\, SE15 5RS\, United Kingdom
CATEGORIES:Talkaoke
ATTACH;FMTTYPE=image/gif:https://thepeoplespeak.org.uk/wp-content/uploads/2017/01/BannerVersion2Gif.gif
END:VEVENT
END:VCALENDAR