BEGIN:VCALENDAR
VERSION:2.0
PRODID:-//The People Speak - ECPv4.6.11//NONSGML v1.0//EN
CALSCALE:GREGORIAN
METHOD:PUBLISH
X-WR-CALNAME:The People Speak
X-ORIGINAL-URL:https://thepeoplespeak.org.uk
X-WR-CALDESC:Events for The People Speak
BEGIN:VEVENT
DTSTART;TZID=UTC+0:20121013T120000
DTEND;TZID=UTC+0:20121013T170059
DTSTAMP:20260424T174642
CREATED:20121002T125059Z
LAST-MODIFIED:20121002T125134Z
UID:2983-1350129600-1350147659@thepeoplespeak.org.uk
SUMMARY:Talkaoke at Get to know cancer
DESCRIPTION:As part of My Health London’s campaign to get people talking and discussing about cancer\, Talkaoke will be in Centrale Shopping Centre\, Croydon\, outside the pop up cancer shop to talk with vistors to the centre about anything and everything to do with cancer\, and much much more. Check out the Get to know Cancer website to find out more about the campaign. \n
URL:https://thepeoplespeak.org.uk/event/talkaoke-at-get-to-know-cancer/
LOCATION:21 North End\, Croydon\, London\, CR0 1TY\, United Kingdom
CATEGORIES:Talkaoke
END:VEVENT
END:VCALENDAR