BEGIN:VCALENDAR
VERSION:2.0
PRODID:-//The People Speak - ECPv4.6.11//NONSGML v1.0//EN
CALSCALE:GREGORIAN
METHOD:PUBLISH
X-WR-CALNAME:The People Speak
X-ORIGINAL-URL:https://thepeoplespeak.org.uk
X-WR-CALDESC:Events for The People Speak
BEGIN:VEVENT
DTSTART;VALUE=DATE:20130912
DTEND;VALUE=DATE:20130915
DTSTAMP:20260424T135734
CREATED:20130730T170127Z
LAST-MODIFIED:20130912T091509Z
UID:3368-1378944000-1379203199@thepeoplespeak.org.uk
SUMMARY:Talkaoke at CultureTECH\, Derry
DESCRIPTION:CultureTECH is a week-long celebration of digital technology\, media and music taking place in Derry-Londonderry from September 9-15. It’s big\, it’s messy\, it’s huge fun and it’s open to everyone – even if you don’t consider yourself very ‘digital’. \nTalkaoke will be travelling across the city from Thurs-Sat and popping up in lots of public spaces – so come find us\, grab a seat and get talking. Free to the Public \nDates & Locations: \n–  Thursday\, September 12th – The Craft Village\, 3pm til 6pm\n \n–  Friday\, September 13th – Thornhill College\, 10am til Lunch\, followed by Waterloo Place\, 3pm til 6pm\n \n–  Saturday\, September 14th – The Venue\, 10am til 4pm\n \nVisit www.culturetech.co for more information on the festival. \nAbout Talkaoke:\nTalkaoke is a pop-up talk show that is set up in festivals\, clubs\, galleries\, conferences and on the street. It’s an illuminated round table with an enthusiastic host sitting in the middle on a swivel chair. Participants sit around the outside and are given the microphone whenever they want\, coming and going as they please. The conversation is a journey from one unexpected subject to another. \n
URL:https://thepeoplespeak.org.uk/event/talkaoke-at-culturetech-derry/
LOCATION:Derry\, United Kingdom
CATEGORIES:Talkaoke
END:VEVENT
END:VCALENDAR