BEGIN:VCALENDAR
VERSION:2.0
PRODID:-//The People Speak - ECPv4.6.11//NONSGML v1.0//EN
CALSCALE:GREGORIAN
METHOD:PUBLISH
X-WR-CALNAME:The People Speak
X-ORIGINAL-URL:https://thepeoplespeak.org.uk
X-WR-CALDESC:Events for The People Speak
BEGIN:VEVENT
DTSTART;TZID=UTC+0:20121103T100000
DTEND;TZID=UTC+0:20121104T180059
DTSTAMP:20260424T175319
CREATED:20120904T170155Z
LAST-MODIFIED:20120904T170222Z
UID:2964-1351936800-1352052059@thepeoplespeak.org.uk
SUMMARY:Talkaoke at Barbican weekender
DESCRIPTION:Talkaoke will be at the Barbican Weekender: Natural Circuits on both Saturday & Sunday. Entry to this event is free. \nProvisional time 10 till 6 on both days. \nCheck the Barbican website for more details \n
URL:https://thepeoplespeak.org.uk/event/talkaoke-at-barbican-weekender/
LOCATION:Silk Street \, London\, EC2Y 8DS\, United Kingdom
CATEGORIES:Talkaoke
END:VEVENT
END:VCALENDAR