BEGIN:VCALENDAR
VERSION:2.0
PRODID:-//The People Speak - ECPv4.6.11//NONSGML v1.0//EN
CALSCALE:GREGORIAN
METHOD:PUBLISH
X-WR-CALNAME:The People Speak
X-ORIGINAL-URL:https://thepeoplespeak.org.uk
X-WR-CALDESC:Events for The People Speak
BEGIN:VEVENT
DTSTART;TZID=UTC+0:20120726T080000
DTEND;TZID=UTC+0:20120726T230059
DTSTAMP:20260424T211117
CREATED:20120723T122559Z
LAST-MODIFIED:20120723T122559Z
UID:2932-1343289600-1343343659@thepeoplespeak.org.uk
SUMMARY:Talkaoke at 93 Feet East
DESCRIPTION:After a couple of months off Talkaoke returns to 93 Feet East for some debate\, discussion and a bit of fun. This a free event and all are welcome. \n
URL:https://thepeoplespeak.org.uk/event/talkaoke-at-93-feet-east/
LOCATION:150 Brick Lane\, London\, E1 6QL\, United Kingdom
CATEGORIES:Talkaoke
ATTACH;FMTTYPE=image/jpeg:https://thepeoplespeak.org.uk/wp-content/uploads/2012/05/93_feet_east-small.jpg
END:VEVENT
END:VCALENDAR