BEGIN:VCALENDAR
VERSION:2.0
PRODID:-//The People Speak - ECPv4.6.11//NONSGML v1.0//EN
CALSCALE:GREGORIAN
METHOD:PUBLISH
X-WR-CALNAME:The People Speak
X-ORIGINAL-URL:https://thepeoplespeak.org.uk
X-WR-CALDESC:Events for The People Speak
BEGIN:VEVENT
DTSTART;TZID=UTC+0:20120524T200000
DTEND;TZID=UTC+0:20120524T230059
DTSTAMP:20260425T004216
CREATED:20120411T171935Z
LAST-MODIFIED:20120502T150221Z
UID:2808-1337889600-1337900459@thepeoplespeak.org.uk
SUMMARY:Talkaoke at 93 Feet East\, Pink Bar
DESCRIPTION:Talkaoke carries on the chat at 93 Feet East on Brick Lane. \nEntry is Free \n
URL:https://thepeoplespeak.org.uk/event/talkaoke-at-93-feet-east-pink-bar/
LOCATION:150 Brick Lane\, London\, E1 6QL\, United Kingdom
CATEGORIES:Past Events,Talkaoke
END:VEVENT
END:VCALENDAR