BEGIN:VCALENDAR
VERSION:2.0
PRODID:-//The People Speak - ECPv4.6.11//NONSGML v1.0//EN
CALSCALE:GREGORIAN
METHOD:PUBLISH
X-WR-CALNAME:The People Speak
X-ORIGINAL-URL:https://thepeoplespeak.org.uk
X-WR-CALDESC:Events for The People Speak
BEGIN:VEVENT
DTSTART;TZID=UTC+0:20121005T170000
DTEND;TZID=UTC+0:20121026T170059
DTSTAMP:20260424T192633
CREATED:20120904T173015Z
LAST-MODIFIED:20120904T173015Z
UID:2971-1349456400-1351270859@thepeoplespeak.org.uk
SUMMARY:Talkaoke @ Article- Biennial of electronic and unstable media
DESCRIPTION:Talkaoke visits Stavanger\, Norway\, for a month long residency at ‘Article- Biennial of electronic and unstable media’ at the Skur 2 art gallery. Every Friday throughout October there will be a different themed event around sustainability. \nMore details to follow. \n
URL:https://thepeoplespeak.org.uk/event/talkaoke-article-biennial-of-electronic-and-unstable-media/
LOCATION:Skansekaien\, Stavanger\, 4006\, Norway
CATEGORIES:Talkaoke
END:VEVENT
END:VCALENDAR