BEGIN:VCALENDAR
VERSION:2.0
PRODID:-//The People Speak - ECPv4.6.11//NONSGML v1.0//EN
CALSCALE:GREGORIAN
METHOD:PUBLISH
X-WR-CALNAME:The People Speak
X-ORIGINAL-URL:https://thepeoplespeak.org.uk
X-WR-CALDESC:Events for The People Speak
BEGIN:VEVENT
DTSTART;TZID=UTC+0:20190928T120000
DTEND;TZID=UTC+0:20190928T150000
DTSTAMP:20260419T191227
CREATED:20190918T150913Z
LAST-MODIFIED:20191004T104336Z
UID:4664-1569672000-1569682800@thepeoplespeak.org.uk
SUMMARY:Talkaoke: Aberfeldy Street - Community Event
DESCRIPTION:We took to the streets Aberfeldy for the Community Event. \n \n
URL:https://thepeoplespeak.org.uk/event/talkaoke-aberfeldy-street-community-event/
LOCATION:27 Aberfeldy Street\, London\, E14 0NU\, United Kingdom
CATEGORIES:Past Events,Talkaoke
ATTACH;FMTTYPE=image/jpeg:https://thepeoplespeak.org.uk/wp-content/uploads/2019/09/community.jpeg
END:VEVENT
END:VCALENDAR