BEGIN:VCALENDAR
VERSION:2.0
PRODID:-//The People Speak - ECPv4.6.11//NONSGML v1.0//EN
CALSCALE:GREGORIAN
METHOD:PUBLISH
X-WR-CALNAME:The People Speak
X-ORIGINAL-URL:https://thepeoplespeak.org.uk
X-WR-CALDESC:Events for The People Speak
BEGIN:VEVENT
DTSTART;TZID=UTC+0:20201002T163000
DTEND;TZID=UTC+0:20201002T190000
DTSTAMP:20260419T182154
CREATED:20200816T092413Z
LAST-MODIFIED:20201113T131559Z
UID:5020-1601656200-1601665200@thepeoplespeak.org.uk
SUMMARY:TAKE BACK CONTROL TALKAOKE: Session 2: Identity Politics: Get Real!
DESCRIPTION:TAKE BACK CONTROL TALKAOKE\, a series of three online talk shows featuring international audiences who are not afraid to share their opinions on patriotism\, identity politics and living with risk and listen to others share theirs. We want to hear what YOU think! \n\nSession 2: Identity Politics: Get Real! \n\n\nIs ‘virtue signalling’ the new pandemic? \nHow do we navigate this new\, super sensitive\, politically correct minefield? \nHave so many people lost their grip on reality? \n \n\n
URL:https://thepeoplespeak.org.uk/event/take-back-control-talkaoke-session-2-identity-politics-get-real/
CATEGORIES:Past Events,Talkaoke
ATTACH;FMTTYPE=image/jpeg:https://thepeoplespeak.org.uk/wp-content/uploads/2020/08/Identity-Politics.jpg
END:VEVENT
END:VCALENDAR