BEGIN:VCALENDAR
VERSION:2.0
PRODID:-//The People Speak - ECPv4.6.11//NONSGML v1.0//EN
CALSCALE:GREGORIAN
METHOD:PUBLISH
X-WR-CALNAME:The People Speak
X-ORIGINAL-URL:https://thepeoplespeak.org.uk
X-WR-CALDESC:Events for The People Speak
BEGIN:VEVENT
DTSTART;TZID=UTC+0:20200918T163000
DTEND;TZID=UTC+0:20200918T210000
DTSTAMP:20260419T195045
CREATED:20200816T092139Z
LAST-MODIFIED:20201113T132421Z
UID:5015-1600446600-1600462800@thepeoplespeak.org.uk
SUMMARY:TAKE BACK CONTROL TALKAOKE: Session 1: Patriotism and the nation
DESCRIPTION:TAKE BACK CONTROL TALKAOKE\, a series of three online talk shows featuring international audiences who are not afraid to share their opinions on patriotism\, identity politics and living with risk and listen to others share theirs. We want to hear what YOU think! \n\nSession 1: Patriotism and the nation \n\n\nListen to others and speak your mind \n​Who will protect your country? Is your political set up under threat from foreign powers and itself through secret internet action\, media control\, fake news\, restrictive trade agreements and financial might? In a global system\, how do you help to preserve your country’s integrity and identity? \n \n\n
URL:https://thepeoplespeak.org.uk/event/take-back-control-talkaoke-session-1-patriotism-and-the-nation/
CATEGORIES:Past Events,Talkaoke
ATTACH;FMTTYPE=image/jpeg:https://thepeoplespeak.org.uk/wp-content/uploads/2020/08/Patriotism-and-the-Nation.jpg
END:VEVENT
END:VCALENDAR