BEGIN:VCALENDAR
VERSION:2.0
PRODID:-//The People Speak - ECPv4.6.11//NONSGML v1.0//EN
CALSCALE:GREGORIAN
METHOD:PUBLISH
X-WR-CALNAME:The People Speak
X-ORIGINAL-URL:https://thepeoplespeak.org.uk
X-WR-CALDESC:Events for The People Speak
BEGIN:VEVENT
DTSTART;TZID=UTC+0:20170803T193000
DTEND;TZID=UTC+0:20170803T220000
DTSTAMP:20260424T162444
CREATED:20170721T171456Z
LAST-MODIFIED:20170814T150913Z
UID:4236-1501788600-1501797600@thepeoplespeak.org.uk
SUMMARY:Talkaoke: Studio Session #5
DESCRIPTION:An enjoyable Talkaoke studio session once again at our studio in Poplar. \nClick here to view the photos \n \n
URL:https://thepeoplespeak.org.uk/event/studio_session_5/
LOCATION:27 Aberfeldy Street\, London\, E14 0NU\, United Kingdom
CATEGORIES:Past Events,Talkaoke
ATTACH;FMTTYPE=image/jpeg:https://thepeoplespeak.org.uk/wp-content/uploads/2017/07/poster_studio_session-small-e1502723381946.jpg
END:VEVENT
END:VCALENDAR