BEGIN:VCALENDAR
VERSION:2.0
PRODID:-//The People Speak - ECPv4.6.11//NONSGML v1.0//EN
CALSCALE:GREGORIAN
METHOD:PUBLISH
X-WR-CALNAME:The People Speak
X-ORIGINAL-URL:https://thepeoplespeak.org.uk
X-WR-CALDESC:Events for The People Speak
BEGIN:VEVENT
DTSTART;TZID=UTC+0:20250604T170000
DTEND;TZID=UTC+0:20250716T200000
DTSTAMP:20260419T123957
CREATED:20250602T093437Z
LAST-MODIFIED:20250602T123607Z
UID:7586-1749056400-1752696000@thepeoplespeak.org.uk
SUMMARY:Stand Up Comedy for Beginners (3 part course)
DESCRIPTION:Have you ever thought about trying Stand-Up Comedy or being funny on stage? Or maybe you just fancy a fun evening gaining insights into how comedy works.  In this 3 part course you will work with a professional comedian Lewis Bryan\, who will provide you with guidance\, tips and a chance to get up and make people laugh. \nDates and times (please note you’d need to committ to all)\nWednesday 4 June\, 5-8pm\n\nWednesday 18 June\, 5-8pm\nWednesday 2 July\, 5-8pm \n\nThere is a possibility of an extra session on Wednesday 16th July to try out your new stand up routine in front of live audience.\n\nWhat will you cover during the course: \n\nBeing funny on stage\nConfidence in performing\, getting familiar with being on stage\nHow to maximise laughs and deliver punch lines for stand up\nCreating content for comedy sets (you will develop a 5 min routine)\n\nYou will get the opportunity to try out material and receive feedback from a professional comedian\, and your fellow participants. After the workshop you will be able to build on what you have learned to develop and strengthen your comedy skills and develop a 5 min routine ready to perform at comedy nights. \nBooking \nThis course if for Aberfeldy Village and wider Tower Hamlets residents. Ideally you will be able to commit to all of the dates to get the most out of the course. If you’d like to get involved please email or phone Margot \nmargot@thepeoplespeak.org.uk \n07812439548 \nThe workshop is part of Aberfeldy Stories project supported by Aberfeldy Big Local and Arnold Clarke. \n
URL:https://thepeoplespeak.org.uk/event/stand-up-comedy-for-begginers-3-part-course/
LOCATION:39 Aberfeldy St\, Aberfeldy Village\, London E14 0NU
ATTACH;FMTTYPE=image/jpeg:https://thepeoplespeak.org.uk/wp-content/uploads/2025/05/53756796827_1565a92af9_k.jpg
END:VEVENT
END:VCALENDAR