BEGIN:VCALENDAR
VERSION:2.0
PRODID:-//The People Speak - ECPv4.6.11//NONSGML v1.0//EN
CALSCALE:GREGORIAN
METHOD:PUBLISH
X-WR-CALNAME:The People Speak
X-ORIGINAL-URL:https://thepeoplespeak.org.uk
X-WR-CALDESC:Events for The People Speak
BEGIN:VEVENT
DTSTART;TZID=UTC+0:20200804T170000
DTEND;TZID=UTC+0:20200804T183000
DTSTAMP:20260419T222318
CREATED:20200703T094712Z
LAST-MODIFIED:20200703T120252Z
UID:4965-1596560400-1596565800@thepeoplespeak.org.uk
SUMMARY:Spotlight on You
DESCRIPTION:Our online Talkaoke will be popping out at Spotlight On You session with the young people from Spotlight youth hub in Tower Hamlets.\n\nSpotlight On You is a weekly opportunity for a group of young people to get together with some of the amazing Spotlight youth workers to have a structured conversation about the issues that matter to them! \n\nThis couldn’t have been a better match with our live\, television-style talk show. We’ll be going out live from our Poplar studio\, experimenting with multiple screens\, visualisations and sound effects! \nTo join the Zoom discussion please register at: https://us02web.zoom.us/j/3579483375 \n
URL:https://thepeoplespeak.org.uk/event/spotlight-on-you/
CATEGORIES:Talkaoke
ATTACH;FMTTYPE=image/jpeg:https://thepeoplespeak.org.uk/wp-content/uploads/2020/07/Spotlight-Talkaoke-4-AUG.jpg
END:VEVENT
END:VCALENDAR