BEGIN:VCALENDAR
VERSION:2.0
PRODID:-//The People Speak - ECPv4.6.11//NONSGML v1.0//EN
CALSCALE:GREGORIAN
METHOD:PUBLISH
X-WR-CALNAME:The People Speak
X-ORIGINAL-URL:https://thepeoplespeak.org.uk
X-WR-CALDESC:Events for The People Speak
BEGIN:VEVENT
DTSTART;TZID=UTC+0:20131031T193000
DTEND;TZID=UTC+0:20131031T223059
DTSTAMP:20260424T163122
CREATED:20131009T163716Z
LAST-MODIFIED:20131010T135501Z
UID:3481-1383247800-1383258659@thepeoplespeak.org.uk
SUMMARY:Spookaoke: Talkaoke Halloween Special 
DESCRIPTION: \nTalkaoke’s bimonthly studio session takes on a spooky\, haunted feel this October with a Halloween Special at The People Speak nerve centre in Hoxton. Come down and join in the chat as we talk about anything and everything. \nFancy dress optional\, ghouls welcome. \n
URL:https://thepeoplespeak.org.uk/event/spookaoke-talkaoke-halloween-special/
CATEGORIES:Talkaoke
END:VEVENT
END:VCALENDAR