BEGIN:VCALENDAR
VERSION:2.0
PRODID:-//The People Speak - ECPv4.6.11//NONSGML v1.0//EN
CALSCALE:GREGORIAN
METHOD:PUBLISH
X-WR-CALNAME:The People Speak
X-ORIGINAL-URL:https://thepeoplespeak.org.uk
X-WR-CALDESC:Events for The People Speak
BEGIN:VEVENT
DTSTART;TZID=UTC+0:20120719T080000
DTEND;TZID=UTC+0:20120722T170059
DTSTAMP:20260424T230019
CREATED:20120229T143847Z
LAST-MODIFIED:20120720T200117Z
UID:2642-1342684800-1342976459@thepeoplespeak.org.uk
SUMMARY:Secret Garden Party Talkaoke
DESCRIPTION:The Secret Garden Party \n*UPDATE* Due to adverse weather conditions and Mikey’s broken foot\, Talkaoke is unable to go ahead at this years at Secret Garden Party. Apologies to all hoping to see us there. \n
URL:https://thepeoplespeak.org.uk/event/secret-garden-party-talkaoke/
LOCATION:near Huntingdon\, Cambridgeshire\, United Kingdom
END:VEVENT
END:VCALENDAR