BEGIN:VCALENDAR
VERSION:2.0
PRODID:-//The People Speak - ECPv4.6.11//NONSGML v1.0//EN
CALSCALE:GREGORIAN
METHOD:PUBLISH
X-WR-CALNAME:The People Speak
X-ORIGINAL-URL:https://thepeoplespeak.org.uk
X-WR-CALDESC:Events for The People Speak
BEGIN:VEVENT
DTSTART;VALUE=DATE:20230327
DTEND;VALUE=DATE:20230429
DTSTAMP:20260419T190558
CREATED:20230313T215033Z
LAST-MODIFIED:20230328T153021Z
UID:6542-1679875200-1682726399@thepeoplespeak.org.uk
SUMMARY:Podcasting and Talkaoke Course with Tower Hamlets Recovery College
DESCRIPTION:\nWe are excited to collaborate with Tower Hamlets Recovery College to bring a new bespoke course on podcasting – from developing ideas to pressing the ‘record’ button. We will use the Talkaoke – pop up talk show format as a springboard to practice facilitation and media skills. We will equip the participants in skills to engage in meaningful discourse with peers!  \nIn this 8-day course\, you will learn how to have constructive\, fruitful\, and insightful discussions\, where sharing like-minded and opposing views is welcomed and encouraged within this space.\n \nThis is a hands-on course and students will be encouraged to participate in using the technical equipment\, creating scripts and podcast plans\, familiarising themselves with various podcasts\, and having a go at live podcasting. The final session will be a public facing one\, where students will share some of the work developed during the course. \nAbout Tower Hamlets Recovery College  \nTower Hamlets Recovery College supports wellbeing and mental health recovery through education and learning. Tower Hamlets Recovery College is for everyone. You can register as a student if you live\, work or study in the London Borough of Tower Hamlets. More info. \nWho is it for\nYoung Adults aged 18-30\, based in Tower Hamlets. Please note this is an eight-day course. Students are expected to attend ALL days but drop ins are welcome. Just contact us in advance. \n\n\nDates\, times and locations\nMonday 27th March\, 2-4pm\, Rich Mix\, 35-47 Bethnal Green Rd\, E1 6LA \nFriday 31st March\, 5-7pm\, Making Space\, 48 Aberfeldy Street\, E14 0NU \nMonday 3rd April\, 2-4pm\, Rich Mix\, 35-47 Bethnal Green Rd\, E1 6LA \nFriday 14th April\, 5-7pm\, Poplar Union\, 2 Cotall St\, E14 6TL \nMonday 17th April\, 2-4pm \, Making Space\, 48 Aberfeldy Street\, E14 0NU \nFriday 21st April\, 5-7pm\, Making Space\, 48 Aberfeldy Street\, E14 0NU \nMonday 24th April\, 2-4pm\, Poplar Union\, Poplar Union\, 2 Cotall St\, E14 6TL \nFriday 28th April\, 5-7pm\, Poplar Union\, 2 Cotall St\, E14 6TL [part of Aberfeldy Live! Talkaoke] \n\n\nHow to get involved\nFor more information and to enrol please visit Tower Hamlets Recovery College student portal. You can also email elft.thrc@nhs.net or call THRC on 02074262332. \n\n  \nThank you to the Making Space for their in kind support. \n \n
URL:https://thepeoplespeak.org.uk/event/podcasting-and-talkaoke-course-with-tower-hamlets-recovery-college/
ATTACH;FMTTYPE=image/jpeg:https://thepeoplespeak.org.uk/wp-content/uploads/2023/03/52279144900_f47bf83191_c.jpg
END:VEVENT
END:VCALENDAR