BEGIN:VCALENDAR
VERSION:2.0
PRODID:-//The People Speak - ECPv4.6.11//NONSGML v1.0//EN
CALSCALE:GREGORIAN
METHOD:PUBLISH
X-WR-CALNAME:The People Speak
X-ORIGINAL-URL:https://thepeoplespeak.org.uk
X-WR-CALDESC:Events for The People Speak
BEGIN:VEVENT
DTSTART;TZID=UTC+0:20250617T170000
DTEND;TZID=UTC+0:20250701T200000
DTSTAMP:20260419T155209
CREATED:20250526T180513Z
LAST-MODIFIED:20250618T131544Z
UID:7577-1750179600-1751400000@thepeoplespeak.org.uk
SUMMARY:Podcast Making for Beginners (3 part workshop) Aberfeldy Stories
DESCRIPTION:Do you have an idea for a podcast but need some help getting started? This 3 part workshop is for you! The sessions will be led by experienced podcast-maker and Talkaoke host Evi Hall. \nAs part of our Aberfeldy Stories project we are inviting you to tell your unique story through a podcast. You don’t need any previous experience. Bring your curious mind and an idea for a story – we will take care of the rest. \nWhat will you do in the workshop\nSession 1: What is a podcast and what makes it yours? In this session we focus on developing the unique core of your podcast\, its audience and what structure the episodes will take.\n\nSession 2: What’s in an interview? This second session focuses on capturing the meat of your podcast and how to arrange\, prepare for and record an interview with guest speakers.\n\nSession 3: How does it fit together? In this final session we focus on the editing process\, exploring editing softwares\, experimenting with music\, ambient sound and other audio forms and how to get your podcast out in the world.\nDates and address\nTuesday 17th Jun\, 5-8pm – Session 1 \nTuesday 24th Jun\, 5-8pm – Session 2 \nTuesday 1st July\, 5-8pm – Session 3 \nAll sessions will take place at Aberfeldy Big Local\, 39 Aberfeldy Street\, E14 0NU\, London. \nWho is it for\nThe workshop is for everyone who lives\, works\, studies or volunteers in Aberfeldy Street area\, E14 and in wider Tower Hamlets. Please note that places for the workshops are limited and we will prioritiese the local residents. \nI want to join\nIf you’d like to get involved please send an email to: margot@thepeoplespeak.org.uk with your name\, surname\, email address\, mobile phone number\, postcode\, your connection with Tower Hamlets\, your podcast idea (it’s ok if you don’t have one yet) and finally\, if you can make all 3 workshop dates (17 Jun\, 24 Jun\, 1 Jul) \n
URL:https://thepeoplespeak.org.uk/event/podcast-making-for-beginners-3-part-workshop-aberfeldy-stories/
LOCATION:39 Aberfeldy St\, Aberfeldy Village\, London E14 0NU
CATEGORIES:Talkaoke
ATTACH;FMTTYPE=image/jpeg:https://thepeoplespeak.org.uk/wp-content/uploads/2025/05/54521986710_e7cbcdd61b_k.jpg
END:VEVENT
END:VCALENDAR