BEGIN:VCALENDAR
VERSION:2.0
PRODID:-//The People Speak - ECPv4.6.11//NONSGML v1.0//EN
CALSCALE:GREGORIAN
METHOD:PUBLISH
X-WR-CALNAME:The People Speak
X-ORIGINAL-URL:https://thepeoplespeak.org.uk
X-WR-CALDESC:Events for The People Speak
BEGIN:VEVENT
DTSTART;VALUE=DATE:20220921
DTEND;VALUE=DATE:20221006
DTSTAMP:20260420T083328
CREATED:20221117T155616Z
LAST-MODIFIED:20221117T155947Z
UID:6326-1663718400-1665014399@thepeoplespeak.org.uk
SUMMARY:Pendle Under The Hammer - This Is Pendle 2022
DESCRIPTION:We are joining in situ on tour of the Pendle area to discuss the results of the Life in Pendle survey as a starting point for a number of Talkaoke conversations. Inspired by a known TV format\, Pendle Under The Hammer invites the participants to become estate agents and potential buyers\, discussing positives and challenges of the area\, while coming up with creatives ideas for making Pendle a better home to the community. If you live in the Pendle Borough come along and have your say about the direction of the council for the next four years. \nWatch the sessions back on The People Speak YouTube channel. Photos and visualisations from the sessions. For more visit our Flickr page. \nIn situ’s vision is for art to be part of everyday life; for their art to be an art of action; for their art to contribute to society as a whole; for their art to challenge current thinking about environment\, people\, place and culture. Their work takes place in many settings\, libraries and supermarkets\, Pendle Hill and surrounding villages\, in homes and schools\, on pavements and in parks. \n   \n  \n
URL:https://thepeoplespeak.org.uk/event/pendle-under-the-hammer-this-is-pendle-2022/
CATEGORIES:Past Events
ATTACH;FMTTYPE=image/jpeg:https://thepeoplespeak.org.uk/wp-content/uploads/2022/11/52404797526_46be462dd8_k.jpg
END:VEVENT
END:VCALENDAR