BEGIN:VCALENDAR
VERSION:2.0
PRODID:-//The People Speak - ECPv4.6.11//NONSGML v1.0//EN
CALSCALE:GREGORIAN
METHOD:PUBLISH
X-WR-CALNAME:The People Speak
X-ORIGINAL-URL:https://thepeoplespeak.org.uk
X-WR-CALDESC:Events for The People Speak
BEGIN:VEVENT
DTSTART;TZID=UTC+0:20200919T154500
DTEND;TZID=UTC+0:20200919T170000
DTSTAMP:20260419T182020
CREATED:20200908T123634Z
LAST-MODIFIED:20200908T123634Z
UID:5080-1600530300-1600534800@thepeoplespeak.org.uk
SUMMARY:Open Saturday at Wellcome Genome Campus
DESCRIPTION:Talkaoke will be part of the closing event at Wellcome Genome Campus Open Saturday\, the theme of this event is ‘Coding’. \nSat 19th Sep\, 2:00pm to 5:00pm.  \nThere are an array of different activities throughout the afternoon and Talkaoke will run from 3.45pm – 5pm.\n \nFor more information and to book free tickets visit:\nhttps://publicengagement.wellcomegenomecampus.org/events/open-saturday-coding \n \n
URL:https://thepeoplespeak.org.uk/event/open-saturday-at-wellcome-genome-campus/
CATEGORIES:Talkaoke
ATTACH;FMTTYPE=image/jpeg:https://thepeoplespeak.org.uk/wp-content/uploads/2020/09/grl2485openlab1.jpg
END:VEVENT
END:VCALENDAR