BEGIN:VCALENDAR
VERSION:2.0
PRODID:-//The People Speak - ECPv4.6.11//NONSGML v1.0//EN
CALSCALE:GREGORIAN
METHOD:PUBLISH
X-WR-CALNAME:The People Speak
X-ORIGINAL-URL:https://thepeoplespeak.org.uk
X-WR-CALDESC:Events for The People Speak
BEGIN:VEVENT
DTSTART;TZID=UTC+0:20230526T150000
DTEND;TZID=UTC+0:20230526T190000
DTSTAMP:20260419T154212
CREATED:20230424T183139Z
LAST-MODIFIED:20230424T183226Z
UID:6612-1685113200-1685127600@thepeoplespeak.org.uk
SUMMARY:One Night Grandstand in Partington
DESCRIPTION:We are collaborating with the Greater Manchester Youth Federation to bring our super fun One Night Grandstand to Partington\, near Manchester! There will be live football\, roaring crowds\, top notch commentating and a lot of fun. You are welcome to join us for a Partington Special Talkaoke too. \nOne Night Grandstand not only brings an extra dimension to an everyday kick-about\, it makes every moment matter\, every kick of the ball\, every decision\, every goal the most important. \n \nAbout Greater Manchester Youth Federation \nWe have been providing vital youth services to young people for over 110 years\, working with volunteer led youth clubs and projects across some of the most marginalised communities of Greater Manchester. We introduce young people to new activities and experiences that they might otherwise be unable to access\, helping them to build confidence and self-esteem. \nwww.gmyouthfed.org \n  \n  \n
URL:https://thepeoplespeak.org.uk/event/one-night-grandstand-in-partington/
ATTACH;FMTTYPE=image/jpeg:https://thepeoplespeak.org.uk/wp-content/uploads/2011/07/DSC_0528.jpg
END:VEVENT
END:VCALENDAR