BEGIN:VCALENDAR
VERSION:2.0
PRODID:-//The People Speak - ECPv4.6.11//NONSGML v1.0//EN
CALSCALE:GREGORIAN
METHOD:PUBLISH
X-WR-CALNAME:The People Speak
X-ORIGINAL-URL:https://thepeoplespeak.org.uk
X-WR-CALDESC:Events for The People Speak
BEGIN:VEVENT
DTSTART;TZID=UTC+0:20230309T093000
DTEND;TZID=UTC+0:20230309T100000
DTSTAMP:20260419T190407
CREATED:20230206T155033Z
LAST-MODIFIED:20230215T191813Z
UID:6407-1678354200-1678356000@thepeoplespeak.org.uk
SUMMARY:MPI Online Cafe - Creative Communication
DESCRIPTION:\n\n\n\n\n\n\nMPI Belgium – Luxembourg Chapter Online Café is a 30 min gathering taking place bi-weekly on Thursdays at 10:30am CET / 9:30am GMT. This is a fun way to start off your day with an opportunity to connect with other meeting professionals and learn and share knowledge. This session is complimentary for both MPI members and non-members! \nAt this MPI Online Café\, you will discover a creative meeting format – Talkaoke – an interactive talk show\, where the participants decide on the subjects and together push the boundaries of what a conversation can be. We will play with the topics discussed in the Café and try to come up with fun and inventive ways to connect them using a technique called «creative linking». \nRegister for the session here.\nMPI Belgium Luxembourg strives to lead the world in education\, networking and innovative solutions that advance not only the meeting and event industry\, but the careers of the professionals in it. Through MPI’s global network of local chapters\, we activate\, educate\, support and connect the connectors—people who are passionate about bringing people together. \n \n \n \n
URL:https://thepeoplespeak.org.uk/event/mpi-online-cafe-creative-communication/
CATEGORIES:Talkaoke
ATTACH;FMTTYPE=image/jpeg:https://thepeoplespeak.org.uk/wp-content/uploads/2023/02/51983730201_3ca785e07f_c.jpg
END:VEVENT
END:VCALENDAR