BEGIN:VCALENDAR
VERSION:2.0
PRODID:-//The People Speak - ECPv4.6.11//NONSGML v1.0//EN
CALSCALE:GREGORIAN
METHOD:PUBLISH
X-WR-CALNAME:The People Speak
X-ORIGINAL-URL:https://thepeoplespeak.org.uk
X-WR-CALDESC:Events for The People Speak
BEGIN:VEVENT
DTSTART;VALUE=DATE:20240611
DTEND;VALUE=DATE:20240614
DTSTAMP:20260419T141041
CREATED:20240415T152925Z
LAST-MODIFIED:20240523T130832Z
UID:7066-1718064000-1718323199@thepeoplespeak.org.uk
SUMMARY:MozFest House x Talkaoke - Amsterdam\, NL
DESCRIPTION:This summer we are delighted to join of MozFest House during their special 15th birthday edition! Catch Talkaoke pop-up talk show in Amsterdam.  \nMozFest House Amsterdam is a regional invitation for individuals\, partners\, allies\, and initiatives to showcase their work within their local environment and experiences. House isn’t just a date on the calendar – it’s a vibrant convergence of minds\, a celebration of creativity\, and a catalyst for change in the digital world.\n \nTuesday 11th June\, 18:00-21:00\, Talkaoke at the MozFest Launch \nWednesday 12th June\, 10:00 – MozFest Day 1 \nThursday 13th June\, 10:00 – MozFest Day 2 \nThis year’s theme: Togetherness and Solidarity\n \n2024 is urgent. 83 elections will be taking place in 76 countries. Ongoing global conflict and warfare will continue to impact the climate\, increase loss of life\, and fuel divisiveness. This year promises to be one of the five warmest years in history. The widening gap in access to the internet and new technologies is deepening inequality\, particularly in the world’s most vulnerable areas. Artificial intelligence (AI) will impact 40% of global employment on top of the existing precarious labour conditions. \nThe emphasis on AI and its stake in these issues is ever more pressing\, and we need to tackle them in connection to one another. \nfor more about MozFest House follow this link. \n
URL:https://thepeoplespeak.org.uk/event/mozfest-house-x-talkaoke-amsterdam-nl/
LOCATION:IJpromenade 2\, 1031 KT\, Amsterdam\, Netherlands
ATTACH;FMTTYPE=image/jpeg:https://thepeoplespeak.org.uk/wp-content/uploads/2024/04/53003550466_33679c2838_c.jpg
END:VEVENT
END:VCALENDAR