BEGIN:VCALENDAR
VERSION:2.0
PRODID:-//The People Speak - ECPv4.6.11//NONSGML v1.0//EN
CALSCALE:GREGORIAN
METHOD:PUBLISH
X-WR-CALNAME:The People Speak
X-ORIGINAL-URL:https://thepeoplespeak.org.uk
X-WR-CALDESC:Events for The People Speak
BEGIN:VEVENT
DTSTART;TZID=UTC+0:20250611T170000
DTEND;TZID=UTC+0:20250709T200000
DTSTAMP:20260419T143216
CREATED:20250602T131212Z
LAST-MODIFIED:20250613T121042Z
UID:7591-1749661200-1752091200@thepeoplespeak.org.uk
SUMMARY:Live Storytelling for Beginners (3 part course)
DESCRIPTION:We all have a story to tell. This workshop takes participants on a step-by-step journey of creating a stage-ready 5 min monologue\, which you can share at an open mic or record as a podcast. You will learn how to structure a story\, develop a character and perform in front of an audience. From creative writing to stage presence – this course is a great excellent introduction to storytelling and building your confidence in public speaking. Led by theatre parctitioner Helena Bloch and performer Margot Przymierska of The People Speak this workshop will be fun and informative. \nWhat will we cover\nSession 1: The Idea. What is your idea for a story (real or fictional)?and what makes a good story? We will explore what makes a good story. We will play around with different types of storytelling styles using theatre and creative writing to give your idea a shape.\n\nSession 2: The Character. How is your storytelling persona different or similar to you? What does your character look like and sound like?\n\nSession 3: The Storytelling. Bringing your story and character together in a short performance in front of other participants.\n\nDates and times\nWednesday 11th June\, 5-8pm \nWednesday 25th June\, 5-8pm \nWednesday 9th July\, 5-8pm \nAll sessions will take place at Aberfeldy Big Local\, 39 Aberfeldy Street\, E14 0NU\, London. \nWho is it for\nThe workshop is for everyone who lives\, works\, studies or volunteers in Aberfeldy Street area\, E14 and in wider Tower Hamlets. Please note that places for the workshops are limited and we will prioritiese the local residents. \nI want to join\nIf you’d like to get involved please send an email to: margot@thepeoplespeak.org.uk with your name\, surname\, email address\, mobile phone number\, postcode\, your connection with Tower Hamlets\, your story idea (it’s ok if you don’t have one yet) and finally\, if you can make all 3 workshop dates (11 June\, 25 June\, 9 July) \nThe workshop is part of Aberfeldy Stories project supported by Aberfeldy Big Local and Arnold Clarke. \nPhoto by John Williams @justjohn \n
URL:https://thepeoplespeak.org.uk/event/live-storytelling-for-beginners-3-part-course/
LOCATION:39 Aberfeldy St\, Aberfeldy Village\, London E14 0NU
ATTACH;FMTTYPE=image/jpeg:https://thepeoplespeak.org.uk/wp-content/uploads/2025/06/SJ-Truth-Hurts-JW-167.jpg
END:VEVENT
END:VCALENDAR