BEGIN:VCALENDAR
VERSION:2.0
PRODID:-//The People Speak - ECPv4.6.11//NONSGML v1.0//EN
CALSCALE:GREGORIAN
METHOD:PUBLISH
X-WR-CALNAME:The People Speak
X-ORIGINAL-URL:https://thepeoplespeak.org.uk
X-WR-CALDESC:Events for The People Speak
BEGIN:VEVENT
DTSTART;TZID=UTC+0:20140625T191500
DTEND;TZID=UTC+0:20140625T221500
DTSTAMP:20260424T210923
CREATED:20140602T134851Z
LAST-MODIFIED:20140602T134851Z
UID:3664-1403723700-1403734500@thepeoplespeak.org.uk
SUMMARY:Lift Festival 2014 - This State of Independence Shall Be
DESCRIPTION:‘Lift throws open a window to the world\, bringing global stories to London and transforming the city into a stage…’ \nThroughout the festival The People Speak will be running\, or working on\, various events. They are hosted by the likes of Amy Lamé and other London notables. Mikey and Zsolti will be at each\, knocking up instant visualisations and harvesting ideas for the concluding Who Wants to Be…? session on 26th June. \nThis State of Independence Shall Be\nExperts in the art of declaring independence at Wiltons Music Hall featuring micronations\, communes and subterranean living. \nIf you can’t change the world\, escape it! Are people who found micronations\, communes\, transition towns\, housing co-operatives or intentional communities\, changing the world\, or just cutting themselves off for it? What about local-currencies\, community buy-outs and bit-coins? The evening will be compered by Michelle Madsen and Sam Berkson of Hammer and Tongue who will be joined by Dan Hancox author of The Village Against the World\, Lise Autogena a Danish artist who left home at 17 to live in the Danish experimental community Christiania and Mike Harding the ambassador to the UK of Elgaland-Vargaland. In The Dark – a remarkable network of radio enthusiasts and producers – will curate a series of audio pieces on the theme of declaring independence\, which will be played during the evening. \nYou can purchase tickets for each event on the lift website \nOther Lift events The People Speak will be at:\n\n26 June – Who Wants to Be …? The Change They Want to See \n
URL:https://thepeoplespeak.org.uk/event/lift-festival-2014-this-state-of-independence-shall-be/
LOCATION:1 Graces Alley (off Ensign St) \, London\, E1 8JB \, United Kingdom
ATTACH;FMTTYPE=image/jpeg:https://thepeoplespeak.org.uk/wp-content/uploads/2014/06/LIFT-logo-small.jpg
END:VEVENT
END:VCALENDAR