BEGIN:VCALENDAR
VERSION:2.0
PRODID:-//The People Speak - ECPv4.6.11//NONSGML v1.0//EN
CALSCALE:GREGORIAN
METHOD:PUBLISH
X-WR-CALNAME:The People Speak
X-ORIGINAL-URL:https://thepeoplespeak.org.uk
X-WR-CALDESC:Events for The People Speak
BEGIN:VEVENT
DTSTART;TZID=UTC+0:20140610T191500
DTEND;TZID=UTC+0:20140610T221500
DTSTAMP:20260424T161213
CREATED:20140602T133515Z
LAST-MODIFIED:20140602T133529Z
UID:3656-1402427700-1402438500@thepeoplespeak.org.uk
SUMMARY:Lift Festival 2014 - Children of The Revolution
DESCRIPTION:‘Lift throws open a window to the world\, bringing global stories to London and transforming the city into a stage…’ \nThroughout the festival The People Speak will be running\, or working on\, various events. They are hosted by the likes of Amy Lamé and other London notables. Mikey and Zsolti will be at each\, knocking up instant visualisations and harvesting ideas for the concluding Who Wants to Be…? session on 26th June. \nChildren of The Revolution\nYoung people can’t breath because baby-boomers are sitting on them. \nSomehow they’ve got to wriggle free. This event looks at how the next generation takes power\, bringing together young councilors\, occupiers\, housing militants\, agitprop TV makers\, an MEP and genuine\, bone-fide revolutionaries. \nDoes anyone offer change we can still believe in? Compered by Amy Lamé\, including the Pirate Party’s Amelia Andersdotter (Europe’s youngest MEP)\, Mike Harris who became a Lewisham Councillor aged 27\, Adebusuyi Adeyemi of the Young Fabians\, Clapton Ultras\, Lili Dmitrovic of People’s Republic of Southwark\, Holly Baxter of the Vagenda\, Emma Mulqueeny who runs Young Rewired State\,Heather Kennedy from Hackney Renters and Duncan O’leary research director of the think tank Demos. We have also recorded an interview with Jolyon Rubinstein and Haydon Prowse of The Revolution will be Televised for this event.\n \nYou can purchase tickets for each event on the lift website \nOther Lift events The People Speak will be at: \n12 June – With the Lights Out it’s Less Dangerous\n18 June – Some People Think I’m Bonkers But I Just Think I’m Free\n25 June – This State of Independence Shall Be\n26 June – Who Wants to Be …? The Change They Want to See \n
URL:https://thepeoplespeak.org.uk/event/lift-festival-2014-children-of-the-revolution/
LOCATION:24 Elm Grove \, Peckham\, London\, SE15 5DE\, United Kingdom
ATTACH;FMTTYPE=image/jpeg:https://thepeoplespeak.org.uk/wp-content/uploads/2014/06/LIFT-logo-small.jpg
END:VEVENT
END:VCALENDAR