BEGIN:VCALENDAR
VERSION:2.0
PRODID:-//The People Speak - ECPv4.6.11//NONSGML v1.0//EN
CALSCALE:GREGORIAN
METHOD:PUBLISH
X-WR-CALNAME:The People Speak
X-ORIGINAL-URL:https://thepeoplespeak.org.uk
X-WR-CALDESC:Events for The People Speak
BEGIN:VEVENT
DTSTART;TZID=UTC+0:20250520T183000
DTEND;TZID=UTC+0:20250520T223000
DTSTAMP:20260422T084622
CREATED:20250416T192520Z
LAST-MODIFIED:20250418T140044Z
UID:7504-1747765800-1747780200@thepeoplespeak.org.uk
SUMMARY:How To Cure Your Algorithm
DESCRIPTION:The People Speak bring their tools for the world to take over itself to the Sage & Jester event series at The Pleasance Theatre! Expect Talkaoke and other interactive formats at this unique evening of fun & conversation! \nWhere do we draw the line between free speech and dangerous misinformation? Algorithms not only dictate our data feeds but also reinforce our echo chambers\, the stakes have never been higher – both for our individual perspectives and for society at large. \nHow To Cure Your Algorithm dives headfirst into the pressing issue of digital manipulation. We’ll expose how unchecked algorithms can distort reality and question the balance between free speech and censorship. \nMore than a debate\, it’s a call to action: reclaim your digital narrative. In a series of dynamic sessions\, you will receive an unprecedented opportunity to transform the way you interact with digital media\, as you get the chance to triage and diagnose the issues in your algorithm before we lead you through some cultural therapies and digital medicinal interventions. \nWe invite you to be at the forefront of this vital conversation – help shape the future of online discourse and empower individuals to take control of their own digital truth. Let’s disrupt the echo chamber together! \nOn May 20\, join us live at the Pleasance Theatre with host Sophia Smith Galer and journalist and author Jamie Bartlett for a critical conversation on the age of misinformation and how to take back control. \n
URL:https://thepeoplespeak.org.uk/event/how-to-cure-your-algorithm/
LOCATION:5 Carpenters Mews\, North Road\, N7 9EF
CATEGORIES:Talkaoke
ATTACH;FMTTYPE=image/png:https://thepeoplespeak.org.uk/wp-content/uploads/2025/04/Screenshot-2025-04-18-at-14.58.32.png
END:VEVENT
END:VCALENDAR