BEGIN:VCALENDAR
VERSION:2.0
PRODID:-//The People Speak - ECPv4.6.11//NONSGML v1.0//EN
CALSCALE:GREGORIAN
METHOD:PUBLISH
X-WR-CALNAME:The People Speak
X-ORIGINAL-URL:https://thepeoplespeak.org.uk
X-WR-CALDESC:Events for The People Speak
BEGIN:VEVENT
DTSTART;TZID=UTC+0:20130321T190000
DTEND;TZID=UTC+0:20130321T220059
DTSTAMP:20260424T111004
CREATED:20130221T111246Z
LAST-MODIFIED:20130221T111844Z
UID:3153-1363892400-1363903259@thepeoplespeak.org.uk
SUMMARY:Talkaoke - Happiness Now
DESCRIPTION:Talkaoke will be taking part in ‘Happiness Now’\, a series of exhibitions and events taking place at ‘Guest Project’ in Hackney questioning the idea of happiness and how it is sold to us.\n \nPlease visit the Happiness Now website for more info on this and other events happening. \n
URL:https://thepeoplespeak.org.uk/event/happiness-now/
LOCATION:Sunbury House\, 1 Andrews Row  \, London\, E8 4QL\, United Kingdom
CATEGORIES:Talkaoke
END:VEVENT
END:VCALENDAR