BEGIN:VCALENDAR
VERSION:2.0
PRODID:-//The People Speak - ECPv4.6.11//NONSGML v1.0//EN
CALSCALE:GREGORIAN
METHOD:PUBLISH
X-WR-CALNAME:The People Speak
X-ORIGINAL-URL:https://thepeoplespeak.org.uk
X-WR-CALDESC:Events for The People Speak
BEGIN:VEVENT
DTSTART;TZID=UTC+0:20250805T160000
DTEND;TZID=UTC+0:20250826T200000
DTSTAMP:20260419T140147
CREATED:20250724T145837Z
LAST-MODIFIED:20250731T135250Z
UID:7726-1754409600-1756238400@thepeoplespeak.org.uk
SUMMARY:Filmmaking for Beginners (4 part course)
DESCRIPTION:Do you enjoy watching films\, comedy sketches on social media or TV reality shows? Have you ever wondered how they are made? Do you have a poem or a story and would like to create a film to illustrate it? Perhaps you are curious about the film and video and would like to learn more about those media in a fun and engaging way? If so – these workshops are for you! \nJoin us and an East London filmmaker Claire Nolan for the 4 sessions exploring storytelling through film. From the idea\, creating storyboards\, scriptwriting\, choosing location\, props and costume\, to acting for screen and producing short films – we will cover it all. \n \nDates\nTuesday 5th Augus\, 4-8pm \nTuesday 12th August\, 4-8pm \nTuesday 19th August \, 4-8pm \nTuesday 26th August\, 4-8pm \n  \nWhere\nAberfeldy Big Local\, 39 Aberfeldy Street\, E14 0NU\, London \n  \nInterested?\nIf you’d like to get involved please email margot@thepeoplespeak.org.uk or phone Margot on 07812439548. Please note that this course is for the residents of Aberfeldy Village and wider Tower Hamlets. Ideally you will be able to commit to all of the dates to get the most out of the course. \nThe workshop is part of Aberfeldy Stories project supported by Aberfeldy Big Local and Arnold Clarke. \n
URL:https://thepeoplespeak.org.uk/event/filmmaking-for-beginners-4-part-course/
LOCATION:39 Aberfeldy St\, Aberfeldy Village\, London E14 0NU
ATTACH;FMTTYPE=image/jpeg:https://thepeoplespeak.org.uk/wp-content/uploads/2025/07/54558314084_da7c35c1f2_k.jpg
END:VEVENT
END:VCALENDAR