BEGIN:VCALENDAR
VERSION:2.0
PRODID:-//The People Speak - ECPv4.6.11//NONSGML v1.0//EN
CALSCALE:GREGORIAN
METHOD:PUBLISH
X-WR-CALNAME:The People Speak
X-ORIGINAL-URL:https://thepeoplespeak.org.uk
X-WR-CALDESC:Events for The People Speak
BEGIN:VEVENT
DTSTART;TZID=UTC+0:20260322T130000
DTEND;TZID=UTC+0:20260322T160000
DTSTAMP:20260419T122032
CREATED:20260309T173005Z
LAST-MODIFIED:20260318T133215Z
UID:7984-1774184400-1774195200@thepeoplespeak.org.uk
SUMMARY:Fight Polarisation with Creativity! Talkaoke Workshop - Live Well Spring Festival\, Manchester
DESCRIPTION:We are looking for participants to join our free Talkaoke Creative Communication Workshop\, part of Live Well Festival #GMLiveWell. \nThe workshop draws on The People Speak’s flagship talk show format – Talkaoke\, where we use creativity to move the conversation forward and to imaginatively explore differences of opinions. In the age of increasing polarisation\, Talkaoke events and workshops offer much needed safe space for genuine in person conversations\, a chance to strengthen communication skills and become part of a community of people passionate about making our society more connected. \nDuring the programme you will learn how to: \n\nUse creativity to facilitate group conversation\nNavigate difficult conversations without judgement\nListen actively and compassionately\nDevelop your public speaking and performance skills\n\n  \nWho is it for \nEveryone is welcome. No previous experience needed. If you are curious and interested in learning new skills – this is for you! \n  \nAddress  \nThe Manchester Cathedral Visitor Centre (often referred to as the CVC or MCVC) is located at 10 Cateaton Street\, Manchester\, M3 1SQ\, adjacent to the main Cathedral building. It sits between the Cathedral and Victoria Street. \nHow to join \nPlease send and email to Margot – margot@thepeoplespeak.org.uk with: your name and surname\, mobile phone number\, postcode\, why are you interested in this workshop\, where did you hear about it. Spots are limited so get in touch \n  \nAbout us \nThe People Speak are a London-based group of artists and creative communicators with 29 years experience in designing innovative formats\, immersive experiences\, and skills development programmes that tackle social polarisation and ignite authentic community engagement. We work with communities\, grassroots organisations\, as well as with arts & culture\, education\, science and many other institutions in the UK and Europe. \n  \n \n
URL:https://thepeoplespeak.org.uk/event/fight-polarisation-with-creativity-talkaoke-workshop-live-well-spring-festival-manchester/
CATEGORIES:Talkaoke
ATTACH;FMTTYPE=image/jpeg:https://thepeoplespeak.org.uk/wp-content/uploads/2026/03/55129125488_552b54aa95_k.jpg
END:VEVENT
END:VCALENDAR