BEGIN:VCALENDAR
VERSION:2.0
PRODID:-//The People Speak - ECPv4.6.11//NONSGML v1.0//EN
CALSCALE:GREGORIAN
METHOD:PUBLISH
X-WR-CALNAME:The People Speak
X-ORIGINAL-URL:https://thepeoplespeak.org.uk
X-WR-CALDESC:Events for The People Speak
BEGIN:VEVENT
DTSTART;TZID=UTC+0:20230323T173000
DTEND;TZID=UTC+0:20230323T190000
DTSTAMP:20260419T205503
CREATED:20230202T164255Z
LAST-MODIFIED:20230215T193343Z
UID:6400-1679592600-1679598000@thepeoplespeak.org.uk
SUMMARY:Decolonising Net Culture Talkaoke x MozFest 2023
DESCRIPTION:MozFest is a unique hybrid: part art\, tech and society convening\, part maker festival\, and the premiere gathering for activists in diverse global movements fighting for a better internet – and you’re invited! On Thursday 23rd March at 5:30pm [GMT] / 6:30pm [CET Central European Time] / 8:30pm [EAT East African Time] we will be joing the Festival with online Talkaoke session. \nTo take part in our session and access the full MozFest programme you need to register for your FREE ticket: mozillafestival.org/tickets\nTalkaoke is a fun freeform talk show\, with no set agenda\, where the online participants decide on the direction of the conversation enhanced by visualisations and sound effects. Taking the question of “How to Decolonise Net Culture?” as the departure point\, we will navigate the conversation together to imaginatively explore what decolonisation of the internet could look like\, including how to create fairer revenue streams for artists and the creatives around the world\, especially from the global south. \nOur recent project with artists from the UK and Uganda highlighted the structural inequalities of opportunity and income between creative producers in the west and the rest of the world. The internet was supposed to be a powerful tool to address this inequality. However\, virtually all social and mass media platforms are US\, European or Chinese and there is an inequality of online access – leading to a huge asymmetry of cultural understanding. Resources wise\, it’s a quasi colonial system. What can be done to address this? We badly need new ideas and strategies and we can begin by simply listening more to those in the Global South.   \n  \nThe Mozilla Manifesto Addendum – Pledge for a Healthy Internet \nThe open\, global internet is the most powerful communication and collaboration resource we have ever seen. It embodies some of our deepest hopes for human progress. It enables new opportunities for learning\, building a sense of shared humanity\, and solving the pressing problems facing people everywhere. Read more. \n  \n \n
URL:https://thepeoplespeak.org.uk/event/decolonising-net-culture-talkaoke-x-mozfest-2023/
ATTACH;FMTTYPE=image/png:https://thepeoplespeak.org.uk/wp-content/uploads/2023/02/Moz-logo.png
END:VEVENT
END:VCALENDAR