BEGIN:VCALENDAR
VERSION:2.0
PRODID:-//The People Speak - ECPv4.6.11//NONSGML v1.0//EN
CALSCALE:GREGORIAN
METHOD:PUBLISH
X-WR-CALNAME:The People Speak
X-ORIGINAL-URL:https://thepeoplespeak.org.uk
X-WR-CALDESC:Events for The People Speak
BEGIN:VEVENT
DTSTART;VALUE=DATE:20150806
DTEND;VALUE=DATE:20150807
DTSTAMP:20260425T131645
CREATED:20150922T120430Z
LAST-MODIFIED:20150922T120430Z
UID:3893-1438819200-1438905599@thepeoplespeak.org.uk
SUMMARY:Talkaoke: Colin Carnival & Funday
DESCRIPTION:Talkaoke was at Colin Carnival & Funday at the Colin Community HUB\, in Belfast\, to chat with festival goers about Colin and the redevelopment of the area. \nClick here to watch the video \nClick here to view photos of the day \n
URL:https://thepeoplespeak.org.uk/event/colin_carnival/
LOCATION:Belfast\, United Kingdom
ATTACH;FMTTYPE=image/jpeg:https://thepeoplespeak.org.uk/wp-content/uploads/2015/09/10BA2386.jpg
END:VEVENT
END:VCALENDAR