BEGIN:VCALENDAR
VERSION:2.0
PRODID:-//The People Speak - ECPv4.6.11//NONSGML v1.0//EN
CALSCALE:GREGORIAN
METHOD:PUBLISH
X-WR-CALNAME:The People Speak
X-ORIGINAL-URL:https://thepeoplespeak.org.uk
X-WR-CALDESC:Events for The People Speak
BEGIN:VEVENT
DTSTART;TZID=UTC+0:20240529T190000
DTEND;TZID=UTC+0:20240529T210000
DTSTAMP:20260419T173134
CREATED:20240428T185605Z
LAST-MODIFIED:20250213T161905Z
UID:7108-1717009200-1717016400@thepeoplespeak.org.uk
SUMMARY:Storytelling Night & Open Mic
DESCRIPTION:Following our recent podcast project we are looking for people in East London who would like to get involved in an evening of real or fictional stories\, comedy\, poetry and anything in between. We are especially looking forward to hearing from people who have never performed in front of an audience before. We will provide you with the writing and performing support so that you can enjoy the experience and meet likeminded people. We are open to all forms\, styles and subjects. The date of the event is Wednesday 29th May. We can record your performance as a video or podcast and share it with you. \nInterested? If you would like to find out more and register your interest before 11th May\, please email Margot margot@thepeoplespeak.org.uk \nThe event is made possible thanks to the support from Tower Hamlets Mayor Small Grants Programme – an exciting new funding programme with a range of excellent projects that will improve the lives of our local residents. \n \nEnjoy the photos from the night at Tommy Flowers Community Pub!\n  \n
URL:https://thepeoplespeak.org.uk/event/call-out-storytelling-night-open-mic/
LOCATION:50 Aberfeldy Street\, London\, E14 0NU\, United Kingdom
ATTACH;FMTTYPE=image/jpeg:https://thepeoplespeak.org.uk/wp-content/uploads/2024/04/51549496041_bf27f66799_c.jpg
END:VEVENT
END:VCALENDAR